BEGIN:VCALENDAR
VERSION:2.0
PRODID:Events Booking
BEGIN:VEVENT
UID:69e929cb523a6
SUMMARY:Après-midi jeux de société
DESCRIPTION:Proposé par le Club de Loisirs
LOCATION:Passage Yvonne Le Fustec\, Plestin-les-Grèves\, 22310 Bretagne\, 
 France
DTSTART:20260526T123000Z
DTSTAMP:20260422T125746Z
ORGANIZER;CN=Plestin-les-Grèves:MAILTO:webmaster@plestinlesgreves.bzh
GEO:48.654846;-3.636188
X-APPLE-STRUCTURED-LOCATION;VALUE=URI;X-ADDRESS=Passage Yvonne Le Fustec\, 
 Plestin-les-Grèves\, 22310 Bretagne\, France;X-APPLE-RADIUS=72;X-TITLE=An
  Dour Meur:48.654846;-3.636188
END:VEVENT
END:VCALENDAR