BEGIN:VCALENDAR
VERSION:2.0
PRODID:Events Booking
BEGIN:VEVENT
UID:69ea35ade2cee
SUMMARY:Braderie Secours Populaire
DESCRIPTION:Proposée par le secours populaire
LOCATION:5a Rue de l'Hospice\, 22310 Plestin-les-Grèves\, France
DTSTART:20260523T070000Z
DTSTAMP:20260422T125550Z
ORGANIZER;CN=Plestin-les-Grèves:MAILTO:webmaster@plestinlesgreves.bzh
GEO:48.654713;-3.628311
X-APPLE-STRUCTURED-LOCATION;VALUE=URI;X-ADDRESS=5a Rue de l'Hospice\, 22310
  Plestin-les-Grèves\, France;X-APPLE-RADIUS=72;X-TITLE=Local du Secours P
 opulaire:48.654713;-3.628311
END:VEVENT
END:VCALENDAR