BEGIN:VCALENDAR
VERSION:2.0
PRODID:Events Booking
BEGIN:VEVENT
UID:69e66485ba5af
SUMMARY:Concours de peinture
DESCRIPTION:Un concours de peinture ouvert à tous 
LOCATION:1 Pl. de l'Église\, 22310 Plestin-les-Grèves\, France
DTSTART:20260503T063000Z
DTEND:20260503T160000Z
DTSTAMP:20260420T071253Z
ORGANIZER;CN=Plestin-les-Grèves:MAILTO:webmaster@plestinlesgreves.bzh
GEO:48.65499;-3.631058
X-APPLE-STRUCTURED-LOCATION;VALUE=URI;X-ADDRESS=1 Pl. de l'Église\, 22310 
 Plestin-les-Grèves\, France;X-APPLE-RADIUS=72;X-TITLE=Centre-ville:48.654
 99;-3.631058
END:VEVENT
END:VCALENDAR