BEGIN:VCALENDAR
VERSION:2.0
PRODID:Events Booking
BEGIN:VEVENT
UID:69e7e1fc2a46c
SUMMARY:Espace Jeu 
DESCRIPTION:Relais petite enfance
LOCATION:Rue des Écoles\, Plestin-les-Grèves\, 22310 Bretagne\, France
DTSTART:20260512T073000Z
DTEND:20260512T093000Z
DTSTAMP:20260420T103949Z
ORGANIZER;CN=Plestin-les-Grèves:MAILTO:webmaster@plestinlesgreves.bzh
GEO:48.651277;-3.631822
X-APPLE-STRUCTURED-LOCATION;VALUE=URI;X-ADDRESS=Rue des Écoles\, Plestin-l
 es-Grèves\, 22310 Bretagne\, France;X-APPLE-RADIUS=72;X-TITLE=Au pré en 
 bulles:48.651277;-3.631822
END:VEVENT
END:VCALENDAR