BEGIN:VCALENDAR
VERSION:2.0
PRODID:Events Booking
BEGIN:VEVENT
UID:69e8459b0989b
SUMMARY:Jazz Jam session 
DESCRIPTION:Jam session en partenariat avec Arthus Jazz
LOCATION:2 Porjou Bras\, 22310 Plestin-les-Grèves\, France
DTSTART:20260301T170000Z
DTSTAMP:20260225T144911Z
ORGANIZER;CN=Plestin-les-Grèves:MAILTO:webmaster@plestinlesgreves.bzh
GEO:48.64431;-3.635118
X-APPLE-STRUCTURED-LOCATION;VALUE=URI;X-ADDRESS=2 Porjou Bras\, 22310 Plest
 in-les-Grèves\, France;X-APPLE-RADIUS=72;X-TITLE=L'improbable Café:48.64
 431;-3.635118
END:VEVENT
END:VCALENDAR